BEGIN:VCALENDAR
VERSION:2.0
PRODID:-//Capital Farm Credit - ECPv6.15.20//NONSGML v1.0//EN
CALSCALE:GREGORIAN
METHOD:PUBLISH
X-ORIGINAL-URL:https://www.capitalfarmcredit.com
X-WR-CALDESC:Events for Capital Farm Credit
REFRESH-INTERVAL;VALUE=DURATION:PT1H
X-Robots-Tag:noindex
X-PUBLISHED-TTL:PT1H
BEGIN:VTIMEZONE
TZID:America/Chicago
BEGIN:DAYLIGHT
TZOFFSETFROM:-0600
TZOFFSETTO:-0500
TZNAME:CDT
DTSTART:20250309T080000
END:DAYLIGHT
BEGIN:STANDARD
TZOFFSETFROM:-0500
TZOFFSETTO:-0600
TZNAME:CST
DTSTART:20251102T070000
END:STANDARD
BEGIN:DAYLIGHT
TZOFFSETFROM:-0600
TZOFFSETTO:-0500
TZNAME:CDT
DTSTART:20260308T080000
END:DAYLIGHT
BEGIN:STANDARD
TZOFFSETFROM:-0500
TZOFFSETTO:-0600
TZNAME:CST
DTSTART:20261101T070000
END:STANDARD
BEGIN:DAYLIGHT
TZOFFSETFROM:-0600
TZOFFSETTO:-0500
TZNAME:CDT
DTSTART:20270314T080000
END:DAYLIGHT
BEGIN:STANDARD
TZOFFSETFROM:-0500
TZOFFSETTO:-0600
TZNAME:CST
DTSTART:20271107T070000
END:STANDARD
END:VTIMEZONE
BEGIN:VEVENT
DTSTART;TZID=America/Chicago:20260731T150000
DTEND;TZID=America/Chicago:20260802T170000
DTSTAMP:20260420T033243
CREATED:20260406T183936Z
LAST-MODIFIED:20260406T184656Z
UID:3677-1785510000-1785690000@www.capitalfarmcredit.com
SUMMARY:2026 Hunters Extravaganza - Houston
DESCRIPTION:The original Texas hunting show is back! Join Capital Farm Credit for the 49th annual Hunters Extravaganza in Houston. Scope out the biggest & best in: camo\, blinds\, feeders\, ATVs\, optics\, game calls\, and more. Zero in on your next hunt with the world’s premier outdoor outfitters & guides – all under one roof. Track down all the greatest giveaways & attractions at the Granddaddy of all Hunting Shows \n\n\n\n				\n		\n					\n					Click here for more information!
URL:https://www.capitalfarmcredit.com/event/2026-hunters-extravaganza-houston/
LOCATION:NRG Center\, 1 NRG Parkway\, Houston\, Texas\, 77054
ATTACH;FMTTYPE=image/jpeg:https://www.capitalfarmcredit.com/wp-content/uploads/2026/04/TTHA-Extravaganza.jpg
END:VEVENT
BEGIN:VEVENT
DTSTART;TZID=America/Chicago:20260803T080000
DTEND;TZID=America/Chicago:20260805T170000
DTSTAMP:20260420T033243
CREATED:20260406T180426Z
LAST-MODIFIED:20260406T184001Z
UID:3671-1785744000-1785949200@www.capitalfarmcredit.com
SUMMARY:Texas A&M Beef Cattle Short Course
DESCRIPTION:Join Capital Farm Credit at the Texas A&M Beef Cattle Short Course in College Station! The Texas A&M Beef Cattle Short Course has a rich tradition and historical place in the programs emanating from the Department of Animal Science at Texas A&M University. We hope to see you there! \n\n\n\n\n\n\n\n				\n		\n					\n					Click here to register!
URL:https://www.capitalfarmcredit.com/event/texas-am-beef-cattle-short-course/
ATTACH;FMTTYPE=image/png:https://www.capitalfarmcredit.com/wp-content/uploads/2026/04/BCSC-e1775498657568.png
END:VEVENT
BEGIN:VEVENT
DTSTART;TZID=America/Chicago:20260807T150000
DTEND;TZID=America/Chicago:20260809T170000
DTSTAMP:20260420T033243
CREATED:20260406T184215Z
LAST-MODIFIED:20260406T184628Z
UID:3680-1786114800-1786294800@www.capitalfarmcredit.com
SUMMARY:2026 Hunters Extravaganza - San Antonio
DESCRIPTION:The original Texas hunting show is back! Join Capital Farm Credit for the 49th annual Hunters Extravaganza in San Antonio. Scope out the biggest & best in: camo\, blinds\, feeders\, ATVs\, optics\, game calls\, and more. Zero in on your next hunt with the world’s premier outdoor outfitters & guides – all under one roof. Track down all the greatest giveaways & attractions at the Granddaddy of all Hunting Shows \n\n\n\n				\n		\n					\n					Click here for more information!
URL:https://www.capitalfarmcredit.com/event/2026-hunters-extravaganza-san-antonio/
LOCATION:Freeman Expo Hall\, 3201 E. Houston St\, San Antonio\, TX\, 78219
ATTACH;FMTTYPE=image/jpeg:https://www.capitalfarmcredit.com/wp-content/uploads/2026/04/TTHA-Extravaganza.jpg
END:VEVENT
BEGIN:VEVENT
DTSTART;TZID=America/Chicago:20260821T150000
DTEND;TZID=America/Chicago:20260823T170000
DTSTAMP:20260420T033243
CREATED:20260406T184354Z
LAST-MODIFIED:20260406T184608Z
UID:3681-1787324400-1787504400@www.capitalfarmcredit.com
SUMMARY:2026 Hunters Extravaganza - Fort Worth
DESCRIPTION:The original Texas hunting show is back! Join Capital Farm Credit for the 49th annual Hunters Extravaganza in Fort Worth. Scope out the biggest & best in: camo\, blinds\, feeders\, ATVs\, optics\, game calls\, and more. Zero in on your next hunt with the world’s premier outdoor outfitters & guides – all under one roof. Track down all the greatest giveaways & attractions at the Granddaddy of all Hunting Shows \n\n\n\n				\n		\n					\n					Click here for more information!
URL:https://www.capitalfarmcredit.com/event/2026-hunters-extravaganza-fort-worth/
LOCATION:Fort Worth Convention Center\, 1201 Houston St\, Fort Worth\, Texas\, 76102
ATTACH;FMTTYPE=image/jpeg:https://www.capitalfarmcredit.com/wp-content/uploads/2026/04/TTHA-Extravaganza.jpg
END:VEVENT
BEGIN:VEVENT
DTSTART;TZID=America/Chicago:20260505T110000
DTEND;TZID=America/Chicago:20260505T010000
DTSTAMP:20260420T033243
CREATED:20260416T184543Z
LAST-MODIFIED:20260416T184615Z
UID:3708-1777978800-1777942800@www.capitalfarmcredit.com
SUMMARY:Leveling the Field Luncheon
DESCRIPTION:Join Capital Farm Credit for a producer education luncheon on May 5th at Rio Farms Inc in Monte Alto! Producers will hear from industry professionals on Grain Contracts and Future & Market Information. This will be an event you don’t want to miss!  \n\n\n\n				\n		\n					\n					Click here to register!
URL:https://www.capitalfarmcredit.com/event/leveling-the-field-luncheon/
LOCATION:Rio Farms Inc\, 25601 N FM 88\, Monte Alto\, 78537
ATTACH;FMTTYPE=image/jpeg:https://www.capitalfarmcredit.com/wp-content/uploads/2025/08/WFFMA-use-this.jpg
END:VEVENT
END:VCALENDAR