BEGIN:VCALENDAR
VERSION:2.0
PRODID:-//Capital Farm Credit - ECPv6.15.20//NONSGML v1.0//EN
CALSCALE:GREGORIAN
METHOD:PUBLISH
X-WR-CALNAME:Capital Farm Credit
X-ORIGINAL-URL:https://www.capitalfarmcredit.com
X-WR-CALDESC:Events for Capital Farm Credit
REFRESH-INTERVAL;VALUE=DURATION:PT1H
X-Robots-Tag:noindex
X-PUBLISHED-TTL:PT1H
BEGIN:VTIMEZONE
TZID:America/Chicago
BEGIN:DAYLIGHT
TZOFFSETFROM:-0600
TZOFFSETTO:-0500
TZNAME:CDT
DTSTART:20240310T080000
END:DAYLIGHT
BEGIN:STANDARD
TZOFFSETFROM:-0500
TZOFFSETTO:-0600
TZNAME:CST
DTSTART:20241103T070000
END:STANDARD
BEGIN:DAYLIGHT
TZOFFSETFROM:-0600
TZOFFSETTO:-0500
TZNAME:CDT
DTSTART:20250309T080000
END:DAYLIGHT
BEGIN:STANDARD
TZOFFSETFROM:-0500
TZOFFSETTO:-0600
TZNAME:CST
DTSTART:20251102T070000
END:STANDARD
BEGIN:DAYLIGHT
TZOFFSETFROM:-0600
TZOFFSETTO:-0500
TZNAME:CDT
DTSTART:20260308T080000
END:DAYLIGHT
BEGIN:STANDARD
TZOFFSETFROM:-0500
TZOFFSETTO:-0600
TZNAME:CST
DTSTART:20261101T070000
END:STANDARD
BEGIN:DAYLIGHT
TZOFFSETFROM:-0600
TZOFFSETTO:-0500
TZNAME:CDT
DTSTART:20270314T080000
END:DAYLIGHT
BEGIN:STANDARD
TZOFFSETFROM:-0500
TZOFFSETTO:-0600
TZNAME:CST
DTSTART:20271107T070000
END:STANDARD
END:VTIMEZONE
BEGIN:VEVENT
DTSTART;TZID=America/Chicago:20260723T080000
DTEND;TZID=America/Chicago:20260725T170000
DTSTAMP:20260422T070346
CREATED:20260105T152954Z
LAST-MODIFIED:20260105T152955Z
UID:3467-1784793600-1784998800@www.capitalfarmcredit.com
SUMMARY:Dallas Safari Club Summer Expo & Foundation Gala
DESCRIPTION:Join Capital Farm Credit at the DSC Summer Expo in Grapevine! The DSC Summer Expo is a high-energy celebration of outdoor adventure\, conservation\, and community — bringing together sportsmen\, outfitters\, and families each July!  \n\n\n\n\n\n\n\n \n\n\n\n				\n		\n					\n					Click here for information!
URL:https://www.capitalfarmcredit.com/event/dallas-safari-club-summer-expo-foundation-gala/
LOCATION:Gaylord Texan\, 1501 Gaylord Trail\, Grapevine\, Texas\, 76051
ATTACH;FMTTYPE=image/jpeg:https://www.capitalfarmcredit.com/wp-content/uploads/2026/01/DSC-Summer-Expo-Featured.jpg
END:VEVENT
BEGIN:VEVENT
DTSTART;TZID=America/Chicago:20260709T080000
DTEND;TZID=America/Chicago:20260712T170000
DTSTAMP:20260422T070346
CREATED:20260406T181627Z
LAST-MODIFIED:20260406T184029Z
UID:3673-1783584000-1783875600@www.capitalfarmcredit.com
SUMMARY:Wildlife 2026
DESCRIPTION:Join Capital Farm Credit at Wildlife 2026 hosted by Texas Wildlife Association in San Antonio! The Texas Wildlife Association celebrates 41 years of promoting effective habitat conservation and responsible hunting through private land stewardship at its annual convention. Wildlife enthusiasts from across Texas will come together for three days of fun\, education\, and top-notch networking.  \n\n\n\n\n\n\n\n				\n		\n					\n					Click here to register!
URL:https://www.capitalfarmcredit.com/event/wildlife-2026/
LOCATION:JW Marriott San Antonio Hill Country Resort & Spa\, 23808 Resort Parkway\, San Antonio\, Texas\, 78261
ATTACH;FMTTYPE=image/jpeg:https://www.capitalfarmcredit.com/wp-content/uploads/2026/04/TWA-CFC.jpg
END:VEVENT
BEGIN:VEVENT
DTSTART;TZID=America/Chicago:20260706T080000
DTEND;TZID=America/Chicago:20260710T170000
DTSTAMP:20260422T070346
CREATED:20260406T175237Z
LAST-MODIFIED:20260406T175240Z
UID:3669-1783324800-1783702800@www.capitalfarmcredit.com
SUMMARY:Texas FFA State Convention
DESCRIPTION:Join Capital Farm Credit at the 2026 Texas FFA State Convention! The annual convention brings together thousands of members for leadership development\, competitions\, and to celebrate agricultural education. \n\n\n\n \n\n\n\n				\n		\n					\n					Click here for information!
URL:https://www.capitalfarmcredit.com/event/texas-ffa-state-convention/
LOCATION:Fort Worth Convention Center\, 1201 Houston St\, Fort Worth\, Texas\, 76102
ATTACH;FMTTYPE=image/png:https://www.capitalfarmcredit.com/wp-content/uploads/2026/04/Texas-FFA.png
END:VEVENT
BEGIN:VEVENT
DTSTART;TZID=America/Chicago:20260506T130000
DTEND;TZID=America/Chicago:20260506T160000
DTSTAMP:20260422T070346
CREATED:20260407T193508Z
LAST-MODIFIED:20260407T193550Z
UID:3691-1778072400-1778083200@www.capitalfarmcredit.com
SUMMARY:2026 Annual Meeting of Stockholders
DESCRIPTION:Join us for Capital Farm Credit’s Annual Meeting of Stockholders. Members will hear updates on the Association’s performance\, receive reports from leadership\, and participate in key governance matters\, including the director election process.  \n\n\n\nLunch will be served at noon. Please register in advance by calling 1-877-322-3018.  \n\n\n\nClick here to view the 2026 AMIS.
URL:https://www.capitalfarmcredit.com/event/2026-annual-meeting-of-stockholders/
LOCATION:Capital Farm Credit Headquarters\, 3902 South Traditions Drive\, College Station\, TX\, United States
ATTACH;FMTTYPE=image/jpeg:https://www.capitalfarmcredit.com/wp-content/uploads/2026/01/Annual-forage-image-for-web.jpg
END:VEVENT
BEGIN:VEVENT
DTSTART;TZID=America/Chicago:20260505T110000
DTEND;TZID=America/Chicago:20260505T120000
DTSTAMP:20260422T070346
CREATED:20260420T162134Z
LAST-MODIFIED:20260420T162315Z
UID:3729-1777978800-1777982400@www.capitalfarmcredit.com
SUMMARY:Leveling the Playing Field: an educational lunch for producers
DESCRIPTION:Join Capital Farm Credit for a producer education luncheon on May 5th at Rio Farms Inc in Monte Alto! Producers will hear from industry professionals on Grain Contracts and Future & Market Information. This will be an event you don’t want to miss!  \n\n\n\n\n\n\n\n				\n		\n					\n					Click here to register!
URL:https://www.capitalfarmcredit.com/event/leveling-the-playing-field-an-educational-lunch-for-producers/
LOCATION:Rio Farms Inc\, 25601 N FM 88\, Monte Alto\, 78537
ATTACH;FMTTYPE=image/jpeg:https://www.capitalfarmcredit.com/wp-content/uploads/2025/08/WFFMA-use-this.jpg
END:VEVENT
BEGIN:VEVENT
DTSTART;TZID=America/Chicago:20260428T180000
DTEND;TZID=America/Chicago:20260428T210000
DTSTAMP:20260422T070346
CREATED:20260420T161848Z
LAST-MODIFIED:20260420T161848Z
UID:3721-1777399200-1777410000@www.capitalfarmcredit.com
SUMMARY:Farm Hope Real Estate Planning\, Financial Planning & Farm Stress Workshop
DESCRIPTION:Join Capital Farm Credit for the Farm Hope Real Estate Planning\, Financial Planning & Farm Stress Workshop in Sinton! This program will focus on farm and ranch real estate and financial planning. Topics will include key estate planning documents\, determining the financial condition of the operation and more. Presenters will also discuss stressors unique to farming and ranching and strategies to help manage them.  \n\n\n\n\n\n\n\n				\n		\n					\n					Click here to register!
URL:https://www.capitalfarmcredit.com/event/farm-hope-real-estate-planning-financial-planning-farm-stress-workshop/
LOCATION:San Patricio County Fairgrounds\, 219 W 5th St.\, Sinton\, Texas\, 78387
ATTACH;FMTTYPE=image/jpeg:https://www.capitalfarmcredit.com/wp-content/uploads/2024/03/farmcredit2023_02978.jpg
END:VEVENT
BEGIN:VEVENT
DTSTART;TZID=America/Chicago:20260428T080000
DTEND;TZID=America/Chicago:20260429T170000
DTSTAMP:20260422T070346
CREATED:20260310T204629Z
LAST-MODIFIED:20260310T204629Z
UID:3623-1777363200-1777482000@www.capitalfarmcredit.com
SUMMARY:Hemphill County Beef Cattle Conference
DESCRIPTION:Come join Capital Farm Credit at the Hemphill County Beef Cattle Conference in Canadian\, TX! The conference is essential for anyone who values\, transacts\, or promotes rural land\, including landowners\, brokers\, appraisers\, attorneys\, and other professionals involved in Texas land markets.  \n\n\n\n				\n		\n					\n					Register Here! \n					\n					 \n				\n			\n\n\n\n\nScreenshot
URL:https://www.capitalfarmcredit.com/event/hemphill-county-beef-cattle-conference/
LOCATION:Jones Pavilion\, 1101 N. 6th Street\, Canadian\, Texas\, 79014\, United States
ATTACH;FMTTYPE=image/jpeg:https://www.capitalfarmcredit.com/wp-content/uploads/2026/03/Hemp-Co-Conf-e1773175554177.jpg
END:VEVENT
BEGIN:VEVENT
DTSTART;TZID=America/Chicago:20260408T080000
DTEND;TZID=America/Chicago:20260410T170000
DTSTAMP:20260422T070346
CREATED:20260310T203203Z
LAST-MODIFIED:20260310T203205Z
UID:3618-1775635200-1775840400@www.capitalfarmcredit.com
SUMMARY:35th Outlook for Texas Land Markets Conference
DESCRIPTION:Come join Capital Farm Credit at the 35th Annual Outlook for Texas Land Markets Conference in San Antonio\, TX! The conference is essential for anyone who values\, transacts\, or promotes rural land\, including landowners\, brokers\, appraisers\, attorneys\, and other professionals involved in Texas land markets.  \n\n\n\n\n\n\n\n				\n		\n					\n					Register Here!
URL:https://www.capitalfarmcredit.com/event/35th-outlook-for-texas-land-markets-conference/
LOCATION:Hyatt Hill Country Resort & Villas\, 9800 Hyatt Resort Drive\, San Antonio\, Texas\, 78251\, United States
ATTACH;FMTTYPE=image/jpeg:https://www.capitalfarmcredit.com/wp-content/uploads/2026/03/TX-Land-Outlook-Conf-e1773174696181.jpg
END:VEVENT
BEGIN:VEVENT
DTSTART;TZID=America/Chicago:20260327T080000
DTEND;TZID=America/Chicago:20260329T170000
DTSTAMP:20260422T070346
CREATED:20260107T212814Z
LAST-MODIFIED:20260107T212815Z
UID:3491-1774598400-1774803600@www.capitalfarmcredit.com
SUMMARY:Cattle Raisers Convention & Expo
DESCRIPTION:Come join Capital Farm Credit at the Cattle Raisers Convention & Expo in Fort Worth hosted by Texas & Southwestern Cattle Raisers Association. Celebrate and learn with over 4\,000 fellow cattle raisers\, landowners\, wildlife managers and industry professionals.  \n\n\n\n\n\n\n\n \n\n\n\n				\n		\n					\n					Register Here!
URL:https://www.capitalfarmcredit.com/event/cattle-raisers-convention-expo/
LOCATION:Fort Worth Convention Center\, 1201 Houston St\, Fort Worth\, Texas\, 76102
ATTACH;FMTTYPE=image/jpeg:https://www.capitalfarmcredit.com/wp-content/uploads/2026/01/tscra-pic.jpg
END:VEVENT
BEGIN:VEVENT
DTSTART;TZID=America/Chicago:20260319T090000
DTEND;TZID=America/Chicago:20260319T140000
DTSTAMP:20260422T070346
CREATED:20260203T181954Z
LAST-MODIFIED:20260203T181955Z
UID:3544-1773910800-1773928800@www.capitalfarmcredit.com
SUMMARY:CFC on Campus: Sam Houston State University Career Fair
DESCRIPTION:Join Capital Farm Credit on campus at the Sam Houston State University Career Fair. Visit our booth to meet the team and learn more about internships and career opportunities. For full event details\, visit the fair’s website here.
URL:https://www.capitalfarmcredit.com/event/cfc-on-campus-sam-houston-state-university-career-fair/
ATTACH;FMTTYPE=image/png:https://www.capitalfarmcredit.com/wp-content/uploads/2025/09/Asset-1.png
END:VEVENT
BEGIN:VEVENT
DTSTART;TZID=America/Chicago:20260304T100000
DTEND;TZID=America/Chicago:20260304T140000
DTSTAMP:20260422T070346
CREATED:20260203T181805Z
LAST-MODIFIED:20260203T181806Z
UID:3543-1772618400-1772632800@www.capitalfarmcredit.com
SUMMARY:CFC on Campus: Tarleton State College of Business Career Fair
DESCRIPTION:Join Capital Farm Credit on campus at the Tarleton State College of Business Career Fair. Visit our booth to meet the team and learn more about internships and career opportunities. For full event details\, visit the fair’s website here.
URL:https://www.capitalfarmcredit.com/event/cfc-on-campus-tarleton-state-college-of-business-career-fair/
ATTACH;FMTTYPE=image/png:https://www.capitalfarmcredit.com/wp-content/uploads/2025/09/Asset-1.png
END:VEVENT
BEGIN:VEVENT
DTSTART;TZID=America/Chicago:20260303T080000
DTEND;TZID=America/Chicago:20260306T170000
DTSTAMP:20260422T070346
CREATED:20260102T222218Z
LAST-MODIFIED:20260102T222219Z
UID:3455-1772524800-1772816400@www.capitalfarmcredit.com
SUMMARY:Houston All Breeds Sale
DESCRIPTION:Be sure to stop by Capital Farm Credit during the Houston Livestock Show and Rodeo All Breeds Sale. Our team is proud to support Texas agriculture and the producers who make this event possible. We look forward to visiting with you!
URL:https://www.capitalfarmcredit.com/event/houston-all-breeds-sale/
LOCATION:NRG Arena Sales Pavilion\, 1 NRG Pkwy\, Houston\, Texas\, 77054
ATTACH;FMTTYPE=image/jpeg:https://www.capitalfarmcredit.com/wp-content/uploads/2026/01/Houston-All-Breeds-2.jpg
END:VEVENT
BEGIN:VEVENT
DTSTART;TZID=America/Chicago:20260225T130000
DTEND;TZID=America/Chicago:20260225T140000
DTSTAMP:20260422T070346
CREATED:20260213T202659Z
LAST-MODIFIED:20260217T195552Z
UID:3551-1772024400-1772028000@www.capitalfarmcredit.com
SUMMARY:WEBINAR: CattleFax Update - February 2026
DESCRIPTION:What’s ahead for the cattle market in 2026? Join Capital Farm Credit and CattleFax for a timely industry update focused on the U.S. and global cattle market outlook. This one-hour webinar will explore current supply and demand trends\, price expectations\, and key factors influencing the market – and what they could mean for your operation and planning decisions for the year ahead.  \n\n\n\nFeaturing Michael Murphy\, COO of CattleFax\, this session will provide valuable insights to help producers\, landowners\, and agribusiness professionals make informed decisions in a dynamic market environment.  \n\n\n\nRegistration is required.
URL:https://www.capitalfarmcredit.com/event/webinar-cattlefax-update-february-2026/
ATTACH;FMTTYPE=image/png:https://www.capitalfarmcredit.com/wp-content/uploads/2026/02/CattleFax_LinkedIn_FB.png
END:VEVENT
BEGIN:VEVENT
DTSTART;TZID=America/Chicago:20260224T100000
DTEND;TZID=America/Chicago:20260224T150000
DTSTAMP:20260422T070346
CREATED:20260203T181549Z
LAST-MODIFIED:20260203T181550Z
UID:3542-1771927200-1771945200@www.capitalfarmcredit.com
SUMMARY:CFC on Campus: Prairie View A&M University Career Fair
DESCRIPTION:Join Capital Farm Credit on campus at the Prairie View A&M University Career Fair. Visit our booth to meet the team and learn more about internships and career opportunities. For full event details\, visit the fair’s website here.
URL:https://www.capitalfarmcredit.com/event/cfc-on-campus-prairie-view-am-university-career-fair-2/
ATTACH;FMTTYPE=image/png:https://www.capitalfarmcredit.com/wp-content/uploads/2025/09/Asset-1.png
END:VEVENT
BEGIN:VEVENT
DTSTART;TZID=America/Chicago:20260219T173000
DTEND;TZID=America/Chicago:20260219T190000
DTSTAMP:20260422T070346
CREATED:20260113T223516Z
LAST-MODIFIED:20260113T223517Z
UID:3495-1771522200-1771527600@www.capitalfarmcredit.com
SUMMARY:Bryan College Station Business After Hours at Capital Farm Credit
DESCRIPTION:Join us for Business After House hosted by Capital Farm Credit! \n\n\n\nThis is an evening of networking with complimentary drinks\, delicious food\, and exciting door prizes. Invite your coworkers and bring your business cards. Free to attend and open to the public.
URL:https://www.capitalfarmcredit.com/event/bryan-college-station-business-after-hours-at-capital-farm-credit/
ATTACH;FMTTYPE=image/jpeg:https://www.capitalfarmcredit.com/wp-content/uploads/2026/01/BAH-e1768343682508.jpg
END:VEVENT
BEGIN:VEVENT
DTSTART;TZID=America/Chicago:20260219T100000
DTEND;TZID=America/Chicago:20260219T140000
DTSTAMP:20260422T070346
CREATED:20260203T181256Z
LAST-MODIFIED:20260203T181257Z
UID:3541-1771495200-1771509600@www.capitalfarmcredit.com
SUMMARY:CFC on Campus: West Texas A&M University Career Fair
DESCRIPTION:Join Capital Farm Credit on campus at the West Texas A&M University Career Fair. Visit our booth to meet the team and learn more about internships and career opportunities. For full event details\, visit the fair’s website here.
URL:https://www.capitalfarmcredit.com/event/cfc-on-campus-west-texas-am-university-career-fair/
ATTACH;FMTTYPE=image/png:https://www.capitalfarmcredit.com/wp-content/uploads/2025/09/Asset-1.png
END:VEVENT
BEGIN:VEVENT
DTSTART;TZID=America/Chicago:20260218T100000
DTEND;TZID=America/Chicago:20260218T150000
DTSTAMP:20260422T070346
CREATED:20260203T181057Z
LAST-MODIFIED:20260203T181057Z
UID:3540-1771408800-1771426800@www.capitalfarmcredit.com
SUMMARY:CFC on Campus: Texas Tech Rawls College of Business Career Fair
DESCRIPTION:Join Capital Farm Credit on campus at the Texas Tech Rawls College of Business Career Fair. Visit our booth to meet the team and learn more about internships and career opportunities. For full event details\, visit the fair’s website here.
URL:https://www.capitalfarmcredit.com/event/cfc-on-campus-texas-tech-rawls-college-of-business-career-fair-2/
ATTACH;FMTTYPE=image/png:https://www.capitalfarmcredit.com/wp-content/uploads/2025/09/Asset-1.png
END:VEVENT
BEGIN:VEVENT
DTSTART;TZID=America/Chicago:20260217T080000
DTEND;TZID=America/Chicago:20260218T170000
DTSTAMP:20260422T070346
CREATED:20260105T150840Z
LAST-MODIFIED:20260105T150841Z
UID:3461-1771315200-1771434000@www.capitalfarmcredit.com
SUMMARY:San Antonio Livestock Show All Breeds Bull & Commercial Female Sale
DESCRIPTION:Be sure to stop by Capital Farm Credit during the San Antonio Livestock Show All Breeds Bull & Commercial Female Sale. Our team is proud to support Texas agriculture and the producers who make this event possible. We look forward to visiting with you! \n\n\n\n\n\n\n\n\n\n				\n		\n					\n					Meet us there!
URL:https://www.capitalfarmcredit.com/event/san-antonio-livestock-show-all-breeds-bull-commercial-female-sale/
LOCATION:San Antonio Livestock Show Auction Facility\, 723 Frost Bank Center Dr\, San Antonio\, Texas\, 78219
ATTACH;FMTTYPE=image/jpeg:https://www.capitalfarmcredit.com/wp-content/uploads/2026/01/SA-All-Breeds-Featured-Image.jpg
END:VEVENT
BEGIN:VEVENT
DTSTART;TZID=America/Chicago:20260204T170000
DTEND;TZID=America/Chicago:20260204T200000
DTSTAMP:20260422T070346
CREATED:20260203T180833Z
LAST-MODIFIED:20260203T180835Z
UID:3539-1770224400-1770235200@www.capitalfarmcredit.com
SUMMARY:CFC on Campus: Texas A&M Economics Night
DESCRIPTION:Join Capital Farm Credit on campus at the Texas A&M Economics Night. Visit our booth to meet the team and learn more about internships and career opportunities. For full event details\, visit the fair’s website here.
URL:https://www.capitalfarmcredit.com/event/cfc-on-campus-texas-am-economics-night-2/
ATTACH;FMTTYPE=image/png:https://www.capitalfarmcredit.com/wp-content/uploads/2025/09/Asset-1.png
END:VEVENT
BEGIN:VEVENT
DTSTART;TZID=America/Chicago:20260204T100000
DTEND;TZID=America/Chicago:20260204T150000
DTSTAMP:20260422T070346
CREATED:20260203T175821Z
LAST-MODIFIED:20260203T175822Z
UID:3538-1770199200-1770217200@www.capitalfarmcredit.com
SUMMARY:CFC on Campus: Texas A&M Mays Business Student Council Career Fair
DESCRIPTION:Join Capital Farm Credit on campus at the Texas A&M Mays Business Student Council Career Fair. Visit our booth to meet the team and learn more about internships and career opportunities. For full event details\, visit the fair’s website here.
URL:https://www.capitalfarmcredit.com/event/cfc-on-campus-texas-am-mays-business-student-council-career-fair-2/
ATTACH;FMTTYPE=image/png:https://www.capitalfarmcredit.com/wp-content/uploads/2025/09/Asset-1.png
END:VEVENT
BEGIN:VEVENT
DTSTART;TZID=America/Chicago:20260122T080000
DTEND;TZID=America/Chicago:20260125T170000
DTSTAMP:20260422T070346
CREATED:20260102T184303Z
LAST-MODIFIED:20260102T184303Z
UID:3452-1769068800-1769360400@www.capitalfarmcredit.com
SUMMARY:HSCF Worldwide Hunting Expo & Convention
DESCRIPTION:Join Capital Farm Credit at the annual HSCF Worldwide Hunting Expo & Convention\, a premier event for hunting and outdoor enthusiasts. It offers a dynamic blend of activities\, including an extensive expo showcasing the latest in hunting and fishing excursions\, gear and innovations in the hunting industry\, as well as engaging banquets that provide opportunities for networking and camaraderie. Attendees can enjoy a variety of banquet options\, participate in exciting live and silent auctions\, and try their luck with raffles featuring coveted prizes. \n\n\n\n\n\n\n\n				\n		\n					\n					Get your tickets!
URL:https://www.capitalfarmcredit.com/event/hscf-worldwide-hunting-expo-convention/
LOCATION:The Woodlands Waterway Marriott Hotel & Convention Center\, 1601 Lake Robbins Drive\, The Woodlands\, Texas\, 77380
ATTACH;FMTTYPE=image/jpeg:https://www.capitalfarmcredit.com/wp-content/uploads/2026/01/HSCF.jpg
END:VEVENT
BEGIN:VEVENT
DTSTART;TZID=America/Chicago:20260112T120000
DTEND;TZID=America/Chicago:20260112T150000
DTSTAMP:20260422T070346
CREATED:20251208T205145Z
LAST-MODIFIED:20251208T205420Z
UID:3398-1768219200-1768230000@www.capitalfarmcredit.com
SUMMARY:Farm Hope: Estate Planning\, Financial Planning\, and Mental Health
DESCRIPTION:This program will focus on farm and ranch estate and financial planning. Topics will include key estate planning documents\, determining the financial condition of the operation\, and more. Presenters will also discuss stressors unique to farming and ranching strategies to help manage them.  \n\n\n\nSpeakers:  \n\n\n\n\nTiffany Dowell Lashmet\n\n\n\nMiquela Smith\n\n\n\nDr. Mikaela Spooner\n\n\n\nKyler Billingsley\n\n\n\n\n \n\n\n\nThis event is in partnership between Texas A&M AgriLife Extension and Capital Farm Credit. Click here to register.
URL:https://www.capitalfarmcredit.com/event/farm-hope-estate-planning-financial-planning-and-mental-health/
LOCATION:Texas A&M AgriLife Research & Extension Center at Lubbock\, 1102 E Farm to Market Rd 1294\, Lubbock\, Texas\, 79403
ATTACH;FMTTYPE=image/jpeg:https://www.capitalfarmcredit.com/wp-content/uploads/2025/10/tractor-in-field.jpg
END:VEVENT
BEGIN:VEVENT
DTSTART;TZID=America/Chicago:20260109T090000
DTEND;TZID=America/Chicago:20260111T170000
DTSTAMP:20260422T070346
CREATED:20251231T174729Z
LAST-MODIFIED:20251231T174729Z
UID:3443-1767949200-1768150800@www.capitalfarmcredit.com
SUMMARY:Texas Trophy Hunters Outdoors Extravaganza
DESCRIPTION:Join Capital Farm Credit for the 2026 Texas Trophy Hunters Outdoors Extravaganza. This event will gather guides and outfitters from around the globe\, presenting a unique opportunity for enthusiasts to explore a diverse range of outdoor pursuits.
URL:https://www.capitalfarmcredit.com/event/texas-trophy-hunters-outdoors-extravaganza/
LOCATION:Kay Bailey Hutchison Convention Center\, 650 S Griffin Street\, Dallas\, Texas\, 75202\, United States
ATTACH;FMTTYPE=image/jpeg:https://www.capitalfarmcredit.com/wp-content/uploads/2025/07/Texas-Trophy-Hunters.jpg
END:VEVENT
BEGIN:VEVENT
DTSTART;TZID=America/Chicago:20251220T080000
DTEND;TZID=America/Chicago:20251220T113000
DTSTAMP:20260422T070346
CREATED:20251210T154142Z
LAST-MODIFIED:20251210T154143Z
UID:3407-1766217600-1766230200@www.capitalfarmcredit.com
SUMMARY:Tailgate with CFC: Texas A&M vs. Miami
DESCRIPTION:Join Capital Farm Credit for game day fun before the big playoff showdown at Kyle Field! We’re kicking things off bright and early with a tailgate packed with good company\, food\, and team spirit! \n\n\n\nThe tailgate begins at 8:00 AM\, three hours prior to the 11:00 AM kickoff\, giving you plenty of time to stop by\, connect\, and gear up for game time!
URL:https://www.capitalfarmcredit.com/event/tailgate-with-cfc-texas-am-vs-miami/
ATTACH;FMTTYPE=image/png:https://www.capitalfarmcredit.com/wp-content/uploads/2025/08/Untitled-design-12.png
END:VEVENT
BEGIN:VEVENT
DTSTART;TZID=America/Chicago:20251208T000000
DTEND;TZID=America/Chicago:20251208T235959
DTSTAMP:20260422T070346
CREATED:20250701T141716Z
LAST-MODIFIED:20251208T205254Z
UID:2514-1765152000-1765238399@www.capitalfarmcredit.com
SUMMARY:Emerging Leaders Institute
DESCRIPTION:Ongoing – New cohorts begin every 6 weeks \n\n\n\nBusiness is hard. We’re making it easy with AgriRoots Emerging Leaders Institute.\n\n\n\nUnderstanding the financial side of your business shouldn’t be complicated. With Emerging Leaders Institute\, we provide experts to help guide you and your business to success. If finding and understanding financial solutions for your agribusiness feels like another task you must do instead of getting to do\, this FREE institute is for you. \n\n\n\nSix short online self-paced sessions to help build your business plan and financial success team\, along with what financial documents are important when seeking financial services. \n\n\n\nSession 1 – Business Planning and Goal SettingSession 2 – Building Your Financial TeamSession 3 – Financial Documentation Deep DiveSession 4 – Did You Make a Profit?Session 5 – Business and Personal Balance SheetsSession 6 – Cash Flow Analysis
URL:https://www.capitalfarmcredit.com/event/emerging-leaders-institute/
ATTACH;FMTTYPE=image/jpeg:https://www.capitalfarmcredit.com/wp-content/uploads/2025/05/HANH6671-Enhanced-NR-scaled.jpg
END:VEVENT
BEGIN:VEVENT
DTSTART;TZID=America/Chicago:20251129T153000
DTEND;TZID=America/Chicago:20251129T183000
DTSTAMP:20260422T070346
CREATED:20250826T161732Z
LAST-MODIFIED:20250828T163552Z
UID:3052-1764430200-1764441000@www.capitalfarmcredit.com
SUMMARY:Tailgate with CFC: Texas vs. Texas A&M
DESCRIPTION:Join Capital Farm Credit for game day fun this football season! At every home game this season\, we’re hosting a tailgate filled with good company\, food\, and team spirit before kickoff! \n\n\n\nEach tailgate begins three hours prior to game time\, giving you plenty of time to stop by\, connect\, and gear up for the big game.
URL:https://www.capitalfarmcredit.com/event/tailgate-with-cfc-texas-vs-texas-am/
ATTACH;FMTTYPE=image/png:https://www.capitalfarmcredit.com/wp-content/uploads/2025/08/Untitled-design-12.png
END:VEVENT
BEGIN:VEVENT
DTSTART;TZID=America/Chicago:20251122T000000
DTEND;TZID=America/Chicago:20251122T235959
DTSTAMP:20260422T070346
CREATED:20250828T163646Z
LAST-MODIFIED:20250828T163647Z
UID:3066-1763769600-1763855999@www.capitalfarmcredit.com
SUMMARY:Tailgate with CFC: Texas A&M vs. Samford
DESCRIPTION:Join Capital Farm Credit for game day fun this football season! At every home game this season\, we’re hosting a tailgate filled with good company\, food\, and team spirit before kickoff! \n\n\n\nEach tailgate begins three hours prior to game time\, giving you plenty of time to stop by\, connect\, and gear up for the big game.
URL:https://www.capitalfarmcredit.com/event/tailgate-with-cfc-texas-am-vs-samford-2/
ATTACH;FMTTYPE=image/png:https://www.capitalfarmcredit.com/wp-content/uploads/2025/08/Untitled-design-12.png
END:VEVENT
BEGIN:VEVENT
DTSTART;TZID=America/Chicago:20251122T000000
DTEND;TZID=America/Chicago:20251122T235959
DTSTAMP:20260422T070346
CREATED:20250826T161554Z
LAST-MODIFIED:20250828T162628Z
UID:3050-1763769600-1763855999@www.capitalfarmcredit.com
SUMMARY:Tailgate with CFC: Texas vs. Arkansas
DESCRIPTION:Join Capital Farm Credit for game day fun this football season! At every home game this season\, we’re hosting a tailgate filled with good company\, food\, and team spirit before kickoff! \n\n\n\nEach tailgate begins three hours prior to game time\, giving you plenty of time to stop by\, connect\, and gear up for the big game.
URL:https://www.capitalfarmcredit.com/event/tailgate-with-cfc-texas-vs-arkansas/
ATTACH;FMTTYPE=image/png:https://www.capitalfarmcredit.com/wp-content/uploads/2025/08/Untitled-design-12.png
END:VEVENT
BEGIN:VEVENT
DTSTART;TZID=America/Chicago:20251118T080000
DTEND;TZID=America/Chicago:20251118T163000
DTSTAMP:20260422T070346
CREATED:20251015T192652Z
LAST-MODIFIED:20251015T192653Z
UID:3266-1763452800-1763483400@www.capitalfarmcredit.com
SUMMARY:Accounting for Agriculture
DESCRIPTION:Reserve your seat for a free\, one-day continued professional education accounting workshop\, offered by Capital Farm Credit. Instructors will dive deep into issues facing accountancy in agriculture. For more information\, contact Hannah Boyd at hannah.boyd@capitalfarmcredit.com.  \n\n\n\nSeven hours of coursework will be offered with no prerequisites required. Space is limited\, so CLICK HERE to register today.
URL:https://www.capitalfarmcredit.com/event/accounting-for-agriculture/
LOCATION:The Tigris Building\, 5307 W. Loop 289\, Access Rd. #201\, Lubbock\, Texas\, 79414\, United States
ATTACH;FMTTYPE=image/jpeg:https://www.capitalfarmcredit.com/wp-content/uploads/2025/07/election-thumbnail-2025.jpg
END:VEVENT
BEGIN:VEVENT
DTSTART;TZID=America/Chicago:20251115T173000
DTEND;TZID=America/Chicago:20251115T193000
DTSTAMP:20260422T070346
CREATED:20250828T184346Z
LAST-MODIFIED:20250828T184350Z
UID:3081-1763227800-1763235000@www.capitalfarmcredit.com
SUMMARY:Ranch Gathering: Amarillo
DESCRIPTION:Capital Farm Credit is proud to be the presenting sponsor of the Texas & Southwestern Cattle Raisers Association (TSCRA) Ranch Gatherings. \n\n\n\nThese events are a fantastic opportunity to connect with TSCRA at the local level. Whether you’re a seasoned rancher or new to the cattle business\, you’ll gain valuable updates on industry issues\, hear about TSCRA initiatives\, and enjoy time networking with fellow cattle raisers in your community. \n\n\n\nAdmission is free and includes a complimentary beef dinner. Bring the family\, friends\, and neighbors—everyone is welcome! \n\n\n\nClick HERE to RSVP
URL:https://www.capitalfarmcredit.com/event/ranch-gathering-amarillo/
ATTACH;FMTTYPE=image/jpeg:https://www.capitalfarmcredit.com/wp-content/uploads/2025/08/CFC_Winnie_Scout_02837_LR-1-scaled-e1756405392818.jpg
END:VEVENT
END:VCALENDAR